BEGIN:VCALENDAR
VERSION:2.0
PRODID:-//eventon.com NONSGML v1.0//EN
CALSCALE:GREGORIAN
METHOD:PUBLISH
BEGIN:VEVENT
UID:69ea0107b6151
DTSTAMP:20260423T112247Z
DTSTART:20230630T161500Z
DTEND:20230630T171500Z
LOCATION:https://www.facebook.com/david.bailleul.54
SUMMARY:Facebook live
DESCRIPTION:Être au plus proche des habitantsMardi 18 juillet 2023 à part
 ir de 18hFacebook : david.bailleul.54Posez vos questions en direct à votre
  Maire via le réseau social Facebook\nhttps://www.ville-coudekerque-branch
 e.fr/events/facebook-live-5/
URL:https://www.ville-coudekerque-branche.fr/events/facebook-live-5/
END:VEVENT
END:VCALENDAR