BEGIN:VCALENDAR
VERSION:2.0
PRODID:-//eventon.com NONSGML v1.0//EN
CALSCALE:GREGORIAN
METHOD:PUBLISH
BEGIN:VEVENT
UID:69e5fdc60f84c
DTSTAMP:20260420T101950Z
DTSTART:20221002T115200Z
DTEND:20221023T115200Z
LOCATION:Ferme Vernaelde 165 Rue du Boernhol
SUMMARY:Des formations gratuites aux gestes qui sauvent
DESCRIPTION:Se former aux gestes de premiers secours\,  c&rsquo;est et insc
 riptions au 03 28 29 25 21potentiellement sauver une vie. Car malheureuseme
 nt personne n&rsquo;est Ã  l&rsquo;abri d&rsquo;un accident. Votre santÃ© Ã
 ©tant la prioritÃ© de la municipalitÃ©\,  des formations gratuites sont pro
 posÃ©es Ã  tous : les plus jeunes\,  le personnel communal et[..]\nhttps://
 www.ville-coudekerque-branche.fr/events/des-formations-gratuites-aux-gestes
 -qui-sauvent/
URL:https://www.ville-coudekerque-branche.fr/events/des-formations-gratuites-aux-gestes-qui-sauvent/
END:VEVENT
END:VCALENDAR