BEGIN:VCALENDAR
VERSION:2.0
PRODID:-//eventon.com NONSGML v1.0//EN
CALSCALE:GREGORIAN
METHOD:PUBLISH
BEGIN:VEVENT
UID:69e5fbd9e3721
DTSTAMP:20260420T101137Z
DTSTART:20220714
DTEND:20220715
LOCATION:
SUMMARY:Le retour du Coudekerquois à domicile
DESCRIPTION:Le 14 juillet\,  date symbolique\,  Monsieur le Maire vous livr
 e le célèbre Coudekerquois à domicile. Pour pouvoir savourer ce gâteau 
 en famille\,  participez au concours sur le réseau social Facebook. Il suf
 fit de laissez un commentaire sur la publication Facebook de la ville pour 
 vous inscrire au tirage au sort.[..]\nhttps://www.ville-coudekerque-branche
 .fr/events/le-retour-du-coudekerquois-a-domicile/
URL:https://www.ville-coudekerque-branche.fr/events/le-retour-du-coudekerquois-a-domicile/
END:VEVENT
END:VCALENDAR