BEGIN:VCALENDAR
VERSION:2.0
PRODID:-//eventon.com NONSGML v1.0//EN
CALSCALE:GREGORIAN
METHOD:PUBLISH
BEGIN:VEVENT
UID:69e77630a206e
DTSTAMP:20260421T130552Z
DTSTART:20220928T150000Z
DTEND:20220928T170000Z
LOCATION:Hôtel de ville
SUMMARY:Venez découvrir les emplois de demain
DESCRIPTION:D&rsquo;ici 2030\,  ce sont 10 000 emplois qui seront créés d
 ans le Dunkerquois\,  autant d&rsquo;opportunités d&#8217;emplois pour les
  habitants et pour les jeunes encore en formation. Pour répondre à vos é
 ventuelles questions\,  une Soirée de l&#8217;emploi est proposée le merc
 redi 28 septembre\,  à l&rsquo;Hôtel de ville. Dès 17h\,  les partenaire
 s[..]\nhttps://www.ville-coudekerque-branche.fr/events/venez-decouvrir-les-
 emplois-de-demain/
URL:https://www.ville-coudekerque-branche.fr/events/venez-decouvrir-les-emplois-de-demain/
END:VEVENT
END:VCALENDAR