BEGIN:VCALENDAR
VERSION:2.0
PRODID:-//eventon.com NONSGML v1.0//EN
CALSCALE:GREGORIAN
METHOD:PUBLISH
BEGIN:VEVENT
UID:69e6113bd568e
DTSTAMP:20260420T114251Z
DTSTART:20220924T083000Z
DTEND:20220924T091500Z
LOCATION:Bibliothèque Freinet Rue Arago
SUMMARY:Heures du conte (à partir de 3 ans)
DESCRIPTION:Heures du conte (à partir de 3 ans)\nhttps://www.ville-coudeke
 rque-branche.fr/events/heures-du-conte-a-partir-de-3-ans-2/
URL:https://www.ville-coudekerque-branche.fr/events/heures-du-conte-a-partir-de-3-ans-2/
END:VEVENT
END:VCALENDAR