BEGIN:VCALENDAR
VERSION:2.0
PRODID:-//eventon.com NONSGML v1.0//EN
CALSCALE:GREGORIAN
METHOD:PUBLISH
BEGIN:VEVENT
UID:69e5fd2780cb5
DTSTAMP:20260420T101711Z
DTSTART:20221017T150000Z
DTEND:20221017T160000Z
LOCATION:Hôtel de ville
SUMMARY:Permanence de Sigrid Fauconnier
DESCRIPTION:\nhttps://www.ville-coudekerque-branche.fr/events/permanence-de
 -sigrid-fauconnier-2/
URL:https://www.ville-coudekerque-branche.fr/events/permanence-de-sigrid-fauconnier-2/
END:VEVENT
END:VCALENDAR