BEGIN:VCALENDAR
VERSION:2.0
PRODID:-//eventon.com NONSGML v1.0//EN
CALSCALE:GREGORIAN
METHOD:PUBLISH
BEGIN:VEVENT
UID:69e5fc5e54bfc
DTSTAMP:20260420T101350Z
DTSTART:20221015T180000Z
DTEND:20221015T200000Z
LOCATION:Espace Jean Vilar
SUMMARY:Concert des tambours de la Garde Républicaine
DESCRIPTION:La Garde Républicaine\,  qui ne s’est plus produite sur scè
 ne depuis 2019\,  présentera en exclusivité son nouveau spectacle en avan
 t-première à Coudekerque\,  lors d’une Masterclass avec les élèves de
  la classe de tambour de l’Académie de musique. Entrée : 6 €/Coudeker
 quois &#8211; 8 €/extérieurs (vente à partir du 8 octobre[..]\nhttps://
 www.ville-coudekerque-branche.fr/events/concert-des-tambours-de-la-garde-re
 publicaine/
URL:https://www.ville-coudekerque-branche.fr/events/concert-des-tambours-de-la-garde-republicaine/
END:VEVENT
END:VCALENDAR