BEGIN:VCALENDAR
VERSION:2.0
PRODID:-//eventon.com NONSGML v1.0//EN
CALSCALE:GREGORIAN
METHOD:PUBLISH
BEGIN:VEVENT
UID:69e5fdae44446
DTSTAMP:20260420T101926Z
DTSTART:20221015
DTEND:20221016
LOCATION:Espace Jean Vilar
SUMMARY:Loto des Halles Bardes
DESCRIPTION:Samedi 15 octobreOuverture des portes 11h30Début du jeu 14h30E
 space Jean Vilar\nhttps://www.ville-coudekerque-branche.fr/events/loto-des-
 halles-bardes/
URL:https://www.ville-coudekerque-branche.fr/events/loto-des-halles-bardes/
END:VEVENT
END:VCALENDAR