BEGIN:VCALENDAR
VERSION:2.0
PRODID:-//eventon.com NONSGML v1.0//EN
CALSCALE:GREGORIAN
METHOD:PUBLISH
BEGIN:VEVENT
UID:69e7334a7c1e0
DTSTAMP:20260421T082026Z
DTSTART:20221017T140600Z
DTEND:20221031T170600Z
LOCATION:
SUMMARY:Coudekerque-Branche se mobilise pour octobre rose
DESCRIPTION:\nhttps://www.ville-coudekerque-branche.fr/events/coudekerque-b
 ranche-se-mobilise-pour-octobre-rose/
URL:https://www.ville-coudekerque-branche.fr/events/coudekerque-branche-se-mobilise-pour-octobre-rose/
END:VEVENT
END:VCALENDAR