BEGIN:VCALENDAR
VERSION:2.0
PRODID:-//eventon.com NONSGML v1.0//EN
CALSCALE:GREGORIAN
METHOD:PUBLISH
BEGIN:VEVENT
UID:69e5fd57d688a
DTSTAMP:20260420T101759Z
DTSTART:20221127T190000Z
DTEND:20221127T210000Z
LOCATION:Espace Jean Vilar
SUMMARY:KODOMO [enfance] spectacle musical - (COMPLET)
DESCRIPTION:À Coudekerque\,  tout est mis en place pour que chacun puisse 
 avoir accès la culture. Outre l’accès aux bibliothèques gratuites\,  l
 es spectacles à tarifs solidaires\,  la ville propose des activités cultu
 relles accessibles à tous\,  comme l’école des Beaux-Arts ou l’École
  de Musique et de Danse. KODOMO [ENFANCES]\,  c’est le titre[..]\nhttps:/
 /www.ville-coudekerque-branche.fr/events/kodomo-enfance-spectacle-musical/
URL:https://www.ville-coudekerque-branche.fr/events/kodomo-enfance-spectacle-musical/
END:VEVENT
END:VCALENDAR