BEGIN:VCALENDAR
VERSION:2.0
PRODID:-//eventon.com NONSGML v1.0//EN
CALSCALE:GREGORIAN
METHOD:PUBLISH
BEGIN:VEVENT
UID:69e5fde68398b
DTSTAMP:20260420T102022Z
DTSTART:20221113T150000Z
DTEND:20221113T170000Z
LOCATION:Espace Jean Vilar
SUMMARY:Théâtre : "Bonne fête Suzette"
DESCRIPTION:par Rex’pression et Coud’oeilDimanche 13 novembre à 16hEsp
 ace Jean Vilar Entrée : 8 €Possibilité de réservation au 06 09 89 90 1
 2 / vente sur place dès 15h.Une partie des bénéfices sera reversée au C
 CAS de Coudekerque-Branche.\nhttps://www.ville-coudekerque-branche.fr/event
 s/theatre-bonne-fete-suzette/
URL:https://www.ville-coudekerque-branche.fr/events/theatre-bonne-fete-suzette/
END:VEVENT
END:VCALENDAR