BEGIN:VCALENDAR
VERSION:2.0
PRODID:-//eventon.com NONSGML v1.0//EN
CALSCALE:GREGORIAN
METHOD:PUBLISH
BEGIN:VEVENT
UID:69e5fd1da4870
DTSTAMP:20260420T101701Z
DTSTART:20221108T080000Z
DTEND:20221109T150000Z
LOCATION:Centre Hoche Rue du Général Hoche
SUMMARY:Inscriptions campagne hiver des Restos du Coeur
DESCRIPTION:7 et 8 novembre de 9h à 11h et de 14h à 16hCentre Hoche\nhttp
 s://www.ville-coudekerque-branche.fr/events/inscriptions-campagne-hiver-des
 -restos-du-coeur/
URL:https://www.ville-coudekerque-branche.fr/events/inscriptions-campagne-hiver-des-restos-du-coeur/
END:VEVENT
END:VCALENDAR