BEGIN:VCALENDAR
VERSION:2.0
PRODID:-//eventon.com NONSGML v1.0//EN
CALSCALE:GREGORIAN
METHOD:PUBLISH
BEGIN:VEVENT
UID:69e5fd0d38227
DTSTAMP:20260420T101645Z
DTSTART:20221127T150000Z
DTEND:20221127T170000Z
LOCATION:Espace Jean Vilar
SUMMARY:Gala de danse classique - (complet)
DESCRIPTION:\nhttps://www.ville-coudekerque-branche.fr/events/gala-de-danse
 -classique/
URL:https://www.ville-coudekerque-branche.fr/events/gala-de-danse-classique/
END:VEVENT
END:VCALENDAR