BEGIN:VCALENDAR
VERSION:2.0
PRODID:-//eventon.com NONSGML v1.0//EN
CALSCALE:GREGORIAN
METHOD:PUBLISH
BEGIN:VEVENT
UID:69e9dcc89acf2
DTSTAMP:20260423T084808Z
DTSTART:20221217T170000Z
DTEND:20221217T180000Z
LOCATION:Place de la Convention Rue Jean Bart
SUMMARY:Concert de la Band’as Co
DESCRIPTION:Samedi 17 décembre à 18hPlace de la Convention\nhttps://www.v
 ille-coudekerque-branche.fr/events/concert-de-la-bandas-co/
URL:https://www.ville-coudekerque-branche.fr/events/concert-de-la-bandas-co/
END:VEVENT
END:VCALENDAR