BEGIN:VCALENDAR
VERSION:2.0
PRODID:-//eventon.com NONSGML v1.0//EN
CALSCALE:GREGORIAN
METHOD:PUBLISH
BEGIN:VEVENT
UID:69e61139a7efe
DTSTAMP:20260420T114249Z
DTSTART:20221217T190000Z
DTEND:20221217T194500Z
LOCATION:Espace Jean Vilar
SUMMARY:Concours du plus beau pull moche de Noël
DESCRIPTION:Samedi 17 décembrede 20H à 20h45Espace Jean Vilar Venez avec 
 votre plus beau pull moche de Noël et remportez des cadeaux ! Le jury sera
  composé de membres de la municipalité et de l’association les Straetep
 oppes. Chaque participant repartira avec un cadeau (entrées pour le Dino P
 arc\,  saucisson du Maire…)[..]\nhttps://www.ville-coudekerque-branche.fr
 /events/concours-du-plus-beaupull-moche-de-noel/
URL:https://www.ville-coudekerque-branche.fr/events/concours-du-plus-beaupull-moche-de-noel/
END:VEVENT
END:VCALENDAR