BEGIN:VCALENDAR
VERSION:2.0
PRODID:-//eventon.com NONSGML v1.0//EN
CALSCALE:GREGORIAN
METHOD:PUBLISH
BEGIN:VEVENT
UID:69e5fdf48414a
DTSTAMP:20260420T102036Z
DTSTART:20221214T133000Z
DTEND:20221214T143000Z
LOCATION:Bibliothèque Verhaeren 26 rue Paul Cézanne
SUMMARY:Heure du conte (à partir de 3 ans)
DESCRIPTION:Mercredi 14 décembre de 14h30 à 15h30Bibliothèque Verhaeren 
 &#8211; 26 rue Paul Cézanne\nhttps://www.ville-coudekerque-branche.fr/even
 ts/heure-du-conte-a-partir-de-3-ans-3/
URL:https://www.ville-coudekerque-branche.fr/events/heure-du-conte-a-partir-de-3-ans-3/
END:VEVENT
END:VCALENDAR