BEGIN:VCALENDAR
VERSION:2.0
PRODID:-//eventon.com NONSGML v1.0//EN
CALSCALE:GREGORIAN
METHOD:PUBLISH
BEGIN:VEVENT
UID:69e5e7dacac25
DTSTAMP:20260420T084618Z
DTSTART:20221204T110000Z
DTEND:20221204T130000Z
LOCATION:Centre d’Incendie et de Secours 31 rue des Arts
SUMMARY:CÉRÉMONIE Sainte Barbe
DESCRIPTION:Dimanche 4 décembre à 12hCentre d’Incendie et de Secours de
  Coudekerque-Branche31 rue des Arts\nhttps://www.ville-coudekerque-branche.
 fr/events/ceremonie-sainte-barbe/
URL:https://www.ville-coudekerque-branche.fr/events/ceremonie-sainte-barbe/
END:VEVENT
END:VCALENDAR