BEGIN:VCALENDAR
VERSION:2.0
PRODID:-//eventon.com NONSGML v1.0//EN
CALSCALE:GREGORIAN
METHOD:PUBLISH
BEGIN:VEVENT
UID:69e5fe7c4df9a
DTSTAMP:20260420T102252Z
DTSTART:20230125T160000Z
DTEND:20230125T170000Z
LOCATION:Centre social Josette Bulté Rue du Général Hoche
SUMMARY:Permanence de Patricia Lescieux
DESCRIPTION:Mercredi 25 janvier 2023 de 17h à 18hCentre Social Communal Jo
 sette Bulté\nhttps://www.ville-coudekerque-branche.fr/events/permanence-de
 -patricia-lescieux-4/
URL:https://www.ville-coudekerque-branche.fr/events/permanence-de-patricia-lescieux-4/
END:VEVENT
END:VCALENDAR