BEGIN:VCALENDAR
VERSION:2.0
PRODID:-//eventon.com NONSGML v1.0//EN
CALSCALE:GREGORIAN
METHOD:PUBLISH
BEGIN:VEVENT
UID:69e5fe8640d5f
DTSTAMP:20260420T102302Z
DTSTART:20230122T140000Z
DTEND:20230122T170000Z
LOCATION:Espace du Maître de poste 48 Rue Béranger
SUMMARY:Dimanche guinguette
DESCRIPTION:Dimanche 22 janvier à 15hMaître de Poste\nhttps://www.ville-c
 oudekerque-branche.fr/events/dimanche-guinguette/
URL:https://www.ville-coudekerque-branche.fr/events/dimanche-guinguette/
END:VEVENT
END:VCALENDAR