BEGIN:VCALENDAR
VERSION:2.0
PRODID:-//eventon.com NONSGML v1.0//EN
CALSCALE:GREGORIAN
METHOD:PUBLISH
BEGIN:VEVENT
UID:69e5fe7aa1748
DTSTAMP:20260420T102250Z
DTSTART:20230127T190000Z
DTEND:20230127T220000Z
LOCATION:Espace Jean Vilar
SUMMARY:Soirée qualificative pour les Championnats de France de magie
DESCRIPTION:Vous aurez l’opportunité de découvrir sur scène 10 artiste
 s qui seront en compétition pour remporter leur ticket d’entrée aux cha
 mpionnats de France de magie FFAP. Un spectacle du Coudekerque Magic Club v
 ous sera proposé durant la délibération du jury. Entrée : Coudekerquois
  : 5 € &#8211; Extérieurs : 10 €Tarif[..]\nhttps://www.ville-coudekerq
 ue-branche.fr/events/soiree-qualificative-pour-les-championnats-de-france-d
 e-magie/
URL:https://www.ville-coudekerque-branche.fr/events/soiree-qualificative-pour-les-championnats-de-france-de-magie/
END:VEVENT
END:VCALENDAR