BEGIN:VCALENDAR
VERSION:2.0
PRODID:-//eventon.com NONSGML v1.0//EN
CALSCALE:GREGORIAN
METHOD:PUBLISH
BEGIN:VEVENT
UID:69e5fc53aa9c0
DTSTAMP:20260420T101339Z
DTSTART:20230121T160000Z
DTEND:20230121T180000Z
LOCATION:Salle Delvallez Rue des Forts
SUMMARY:Tous ensemble avec l’ACH
DESCRIPTION:Rencontre sportive &#8211; Samedi 21 janvier 2023 à 17 heures 
 &#8211; Championnat de France Handibasket &#8211; Samedi 21 janvier\,  l’
 ACH Littoral reçoit l’équipe de Vandoeuvre à 17 heures à la salle Jea
 n Delvallez\,  rue des Forts à Coudekerque-Branche. L’ACH a besoin de so
 n public\,  alors venez nombreux les encourager ![..]\nhttps://www.ville-co
 udekerque-branche.fr/events/tous-ensemble-avec-lach/
URL:https://www.ville-coudekerque-branche.fr/events/tous-ensemble-avec-lach/
END:VEVENT
END:VCALENDAR