BEGIN:VCALENDAR
VERSION:2.0
PRODID:-//eventon.com NONSGML v1.0//EN
CALSCALE:GREGORIAN
METHOD:PUBLISH
BEGIN:VEVENT
UID:69e626bc0b42e
DTSTAMP:20260420T131436Z
DTSTART:20230221T160000Z
DTEND:20230221T170000Z
LOCATION:Mairie de Quartier Cézanne 26 rue Cézanne
SUMMARY:Permanence de Laurent Vanrechem
DESCRIPTION:Mardi 21 février 2023 de 17h à 18hMairie de quartier Cézanne
 \nhttps://www.ville-coudekerque-branche.fr/events/permanence-de-laurent-van
 rechem-5/
URL:https://www.ville-coudekerque-branche.fr/events/permanence-de-laurent-vanrechem-5/
END:VEVENT
END:VCALENDAR