BEGIN:VCALENDAR
VERSION:2.0
PRODID:-//eventon.com NONSGML v1.0//EN
CALSCALE:GREGORIAN
METHOD:PUBLISH
BEGIN:VEVENT
UID:69e5e89da0cb0
DTSTAMP:20260420T084933Z
DTSTART:20230224T083000Z
DTEND:20230602T090000Z
LOCATION:Centre social Josette Bulté Rue du Général Hoche
SUMMARY:Le café des parents pour être écouté et aidé
DESCRIPTION:Échanger entre parents sur les sujets éducatifs « Je ne com
 prends plus mon ado »\,  « j’ai du mal à gérer les crises »\,  la
  période de l’adolescence peut parfois être compliquée à vivre pour l
 e jeune\,  mais aussi pour ses parents. C’est pourquoi le Centre social J
 osette Bulté propose Le café des parents.[..]\nhttps://www.ville-coudeker
 que-branche.fr/events/le-cafe-des-parents-pour-etre-ecoute-et-aide/
URL:https://www.ville-coudekerque-branche.fr/events/le-cafe-des-parents-pour-etre-ecoute-et-aide/
END:VEVENT
END:VCALENDAR