BEGIN:VCALENDAR
VERSION:2.0
PRODID:-//eventon.com NONSGML v1.0//EN
CALSCALE:GREGORIAN
METHOD:PUBLISH
BEGIN:VEVENT
UID:69e5fe052d49b
DTSTAMP:20260420T102053Z
DTSTART:20230130T073000Z
DTEND:20230224T163000Z
LOCATION:Salle Monique DE LYLLE 104 rue Henri Ghesquière
SUMMARY:Repas Avant Bande de Coudekerque-Branche
DESCRIPTION:Repas avant bande de Coudekerque-Branche\,  uniquement sur rés
 ervation payante du 30 janvier au 24 février 2023. soit au siège des Papi
 llons Blancs de Dunkerque du lundi au vendredi de 8h30 à 12h00 et 14h00 à
  17h30 soit par rendez vous en contactant au préalable le 06 27 49 92 28[.
 .]\nhttps://www.ville-coudekerque-branche.fr/events/repas-avant-bande-de-co
 udekerque-branche/
URL:https://www.ville-coudekerque-branche.fr/events/repas-avant-bande-de-coudekerque-branche/
END:VEVENT
END:VCALENDAR