BEGIN:VCALENDAR
VERSION:2.0
PRODID:-//eventon.com NONSGML v1.0//EN
CALSCALE:GREGORIAN
METHOD:PUBLISH
BEGIN:VEVENT
UID:69e730a7a3733
DTSTAMP:20260421T080911Z
DTSTART:20230319T073000Z
DTEND:20230319T163000Z
LOCATION:Espace Jean Vilar
SUMMARY:Brocante ouverte à tous
DESCRIPTION:Renseignements et inscriptions : asso.apc@gmail.com\nhttps://ww
 w.ville-coudekerque-branche.fr/events/brocante-ouverte-a-tous/
URL:https://www.ville-coudekerque-branche.fr/events/brocante-ouverte-a-tous/
END:VEVENT
END:VCALENDAR