BEGIN:VCALENDAR
VERSION:2.0
PRODID:-//eventon.com NONSGML v1.0//EN
CALSCALE:GREGORIAN
METHOD:PUBLISH
BEGIN:VEVENT
UID:69e7341743c70
DTSTAMP:20260421T082351Z
DTSTART:20230318T090000Z
DTEND:20230318T110000Z
LOCATION:
SUMMARY:Plongez dans l’histoire du Sacré Coeur
DESCRIPTION:Samedi 18 mars 2023 à 10h\,  les associations REGHT (arts mart
 iaux historiques européens) et Rythme et expression (danse) se joignent po
 ur proposer une mise en scène de l’histoire de l’église du Sacré Coe
 ur. Un événement gratuit à ne pas manquer ! La réhabilitation complète
  en 2022 de la seule et[..]\nhttps://www.ville-coudekerque-branche.fr/event
 s/plongez-dans-lhistoire-du-sacre-coeur/
URL:https://www.ville-coudekerque-branche.fr/events/plongez-dans-lhistoire-du-sacre-coeur/
END:VEVENT
END:VCALENDAR