BEGIN:VCALENDAR
VERSION:2.0
PRODID:-//eventon.com NONSGML v1.0//EN
CALSCALE:GREGORIAN
METHOD:PUBLISH
BEGIN:VEVENT
UID:69e5fecabb8cf
DTSTAMP:20260420T102410Z
DTSTART:20230324T173000Z
DTEND:20230324T183000Z
LOCATION:Bibliothèque Louis Aragon 3\,  rue Ghesquière
SUMMARY:Printemps des poètes
DESCRIPTION:11 au 27 mars Un spectacle musical le 24 mars. La troupe Les Ju
 bilateurs vous propose un spectacle musical\,  poétique\,  accompagné de 
 sketchs et de chansons à la bibliothèque Aragon le vendredi 24 mars à 18
 h30.Durée : 1h\,  pour tout public\nhttps://www.ville-coudekerque-branche.
 fr/events/printemps-des-poetes/
URL:https://www.ville-coudekerque-branche.fr/events/printemps-des-poetes/
END:VEVENT
END:VCALENDAR