BEGIN:VCALENDAR
VERSION:2.0
PRODID:-//eventon.com NONSGML v1.0//EN
CALSCALE:GREGORIAN
METHOD:PUBLISH
BEGIN:VEVENT
UID:69e613791c3a9
DTSTAMP:20260420T115225Z
DTSTART:20230408T073000Z
DTEND:20230408T103000Z
LOCATION:Label Épicerie 9 rue des Platanes
SUMMARY:Repair café
DESCRIPTION:Label Épicerie\,  situé au 9 rue des Platanes (ancienne égli
 se Saint-Pierre)\,  organise un repair café le samedi 8 avril 2023 de 9h30
  à 12h30. Pour bénéficier d’une réparation gratuite par un des béné
 voles\,  il faut obligatoirement vous préinscrire par mail sur repaircafe@
 label-epicerie. org\,  en précisant vos nom\,  prénom\,  téléphone\,  l
 ’appareil[..]\nhttps://www.ville-coudekerque-branche.fr/events/repair-caf
 e/
URL:https://www.ville-coudekerque-branche.fr/events/repair-cafe/
END:VEVENT
END:VCALENDAR