BEGIN:VCALENDAR
VERSION:2.0
PRODID:-//eventon.com NONSGML v1.0//EN
CALSCALE:GREGORIAN
METHOD:PUBLISH
BEGIN:VEVENT
UID:69e88c434e3ee
DTSTAMP:20260422T085219Z
DTSTART:20230429T080000Z
DTEND:20230429T150000Z
LOCATION:Espace Jean Vilar
SUMMARY:Bourse aux vélos et accessoires
DESCRIPTION:Samedi 29 avril de 10h à 17hEspace Jean VilarOrganisé par Duc
 k Slip Kustom\nhttps://www.ville-coudekerque-branche.fr/events/bourse-aux-v
 elos-et-accessoires/
URL:https://www.ville-coudekerque-branche.fr/events/bourse-aux-velos-et-accessoires/
END:VEVENT
END:VCALENDAR