BEGIN:VCALENDAR
VERSION:2.0
PRODID:-//eventon.com NONSGML v1.0//EN
CALSCALE:GREGORIAN
METHOD:PUBLISH
BEGIN:VEVENT
UID:69e88dbd5a9e5
DTSTAMP:20260422T085837Z
DTSTART:20230401T090000Z
DTEND:20230401T103000Z
LOCATION:Espace Jean Vilar
SUMMARY:Remise des médailles du travail
DESCRIPTION:Samedi 1er avril à 11hEspace Jean Vilar\nhttps://www.ville-cou
 dekerque-branche.fr/events/remise-des-medailles-du-travail/
URL:https://www.ville-coudekerque-branche.fr/events/remise-des-medailles-du-travail/
END:VEVENT
END:VCALENDAR