BEGIN:VCALENDAR
VERSION:2.0
PRODID:-//eventon.com NONSGML v1.0//EN
CALSCALE:GREGORIAN
METHOD:PUBLISH
BEGIN:VEVENT
UID:69e5fd65d3e6c
DTSTAMP:20260420T101813Z
DTSTART:20230429T060000Z
DTEND:20230429T100000Z
LOCATION:Foyer Rostand 2 Rue des Aulnes
SUMMARY:Don du sang
DESCRIPTION:Pour donner votre sang\,  rendez-vous :samedi 29 avril de 8h à
  12hSalle Jean Rostand\nhttps://www.ville-coudekerque-branche.fr/events/don
 -du-sang-3/
URL:https://www.ville-coudekerque-branche.fr/events/don-du-sang-3/
END:VEVENT
END:VCALENDAR