BEGIN:VCALENDAR
VERSION:2.0
PRODID:-//eventon.com NONSGML v1.0//EN
CALSCALE:GREGORIAN
METHOD:PUBLISH
BEGIN:VEVENT
UID:69e5fdb317e8e
DTSTAMP:20260420T101931Z
DTSTART:20230402T140000Z
DTEND:20230402T170000Z
LOCATION:
SUMMARY:Coud’pouce participe au 40 ans du musée du LAAC
DESCRIPTION:Coud’pouce\,  association coudekerquoise soutenue depuis 13 a
 ns par la ville participe au 40 ans du musée du LAAC à Dunkerque en parte
 nariat avec les 4 écluses ce dimanche 02 avril à partir de 16h00. Au prog
 ramme : 2 défilés de votre association préférée 😛 et un show musica
 l de l&rsquo;artiste[..]\nhttps://www.ville-coudekerque-branche.fr/events/c
 oudpouce-participe-au-40-ans-du-musee-du-laac/
URL:https://www.ville-coudekerque-branche.fr/events/coudpouce-participe-au-40-ans-du-musee-du-laac/
END:VEVENT
END:VCALENDAR