BEGIN:VCALENDAR
VERSION:2.0
PRODID:-//eventon.com NONSGML v1.0//EN
CALSCALE:GREGORIAN
METHOD:PUBLISH
BEGIN:VEVENT
UID:69e730b1d43f5
DTSTAMP:20260421T080921Z
DTSTART:20230409T130000Z
DTEND:20230409T170000Z
LOCATION:Salle Monique DE LYLLE 104 rue Henri Ghesquière
SUMMARY:THE DANSANT
DESCRIPTION:Salle Monique DE LYLLE 104 rue Henri Ghesquière de 15h à 19h\
 nhttps://www.ville-coudekerque-branche.fr/events/the-dansant-4/
URL:https://www.ville-coudekerque-branche.fr/events/the-dansant-4/
END:VEVENT
END:VCALENDAR