BEGIN:VCALENDAR
VERSION:2.0
PRODID:-//eventon.com NONSGML v1.0//EN
CALSCALE:GREGORIAN
METHOD:PUBLISH
BEGIN:VEVENT
UID:69e5fd16602e8
DTSTAMP:20260420T101654Z
DTSTART:20230629T153000Z
DTEND:20230629T163000Z
LOCATION:Espace Roger Salengro rue Jules Guesde
SUMMARY:Permanence de Alain Cellier
DESCRIPTION:SAINTE-GERMAINE Jeudi 29 juin 2023 de 17h30 à 18h30Mairie de q
 uartier Salengro\nhttps://www.ville-coudekerque-branche.fr/events/permanenc
 e-de-alain-cellier/
URL:https://www.ville-coudekerque-branche.fr/events/permanence-de-alain-cellier/
END:VEVENT
END:VCALENDAR