BEGIN:VCALENDAR
VERSION:2.0
PRODID:-//eventon.com NONSGML v1.0//EN
CALSCALE:GREGORIAN
METHOD:PUBLISH
BEGIN:VEVENT
UID:69e7341b97cf5
DTSTAMP:20260421T082355Z
DTSTART:20230628T160000Z
DTEND:20230628T180000Z
LOCATION:Ancienne mairie Gustave Fontaine Rue Gustave Fontaine
SUMMARY:Réunion publique du Vieux Coudekerque
DESCRIPTION:28 JUIN VIEUX COUDEKERQUE &#8211; Mairie Gustave-Fontaine &#821
 1; 18h\nhttps://www.ville-coudekerque-branche.fr/events/reunion-publique-du
 -vieux-coudekerque/
URL:https://www.ville-coudekerque-branche.fr/events/reunion-publique-du-vieux-coudekerque/
END:VEVENT
END:VCALENDAR