BEGIN:VCALENDAR
VERSION:2.0
PRODID:-//eventon.com NONSGML v1.0//EN
CALSCALE:GREGORIAN
METHOD:PUBLISH
BEGIN:VEVENT
UID:69e88c52da820
DTSTAMP:20260422T085234Z
DTSTART:20230617T120000Z
DTEND:20230617T170000Z
LOCATION:Salle Monique DE LYLLE 104 rue Henri Ghesquière
SUMMARY:LOTO de la Fête des Pères
DESCRIPTION:LOTO de la Fête des Pères sur réservation si possible au 07 
 66 12 92 64\nhttps://www.ville-coudekerque-branche.fr/events/loto-de-la-fet
 e-des-peres/
URL:https://www.ville-coudekerque-branche.fr/events/loto-de-la-fete-des-peres/
END:VEVENT
END:VCALENDAR