BEGIN:VCALENDAR
VERSION:2.0
PRODID:-//eventon.com NONSGML v1.0//EN
CALSCALE:GREGORIAN
METHOD:PUBLISH
BEGIN:VEVENT
UID:69e5e7f113052
DTSTAMP:20260420T084641Z
DTSTART:20230917
DTEND:20230918
LOCATION:Station d&#039;épuration 50 rue Gutenberg
SUMMARY:La station d'épuration ouverte pour les journées européennes du patrimoine
DESCRIPTION:Dimanche 17 septembre 2023 RDV le matin 10h00 ou l&rsquo;après
  midi à 14h00 à partir de 10 ans\nhttps://www.ville-coudekerque-branche.f
 r/events/la-station-depuration-ouverte-pour-les-journees-europeennes-du-pat
 rimoine/
URL:https://www.ville-coudekerque-branche.fr/events/la-station-depuration-ouverte-pour-les-journees-europeennes-du-patrimoine/
END:VEVENT
END:VCALENDAR