BEGIN:VCALENDAR
VERSION:2.0
PRODID:-//eventon.com NONSGML v1.0//EN
CALSCALE:GREGORIAN
METHOD:PUBLISH
BEGIN:VEVENT
UID:69e5e7e20644a
DTSTAMP:20260420T084626Z
DTSTART:20231023T150000Z
DTEND:20231023T160000Z
LOCATION:Hôtel de ville
SUMMARY:Permanence de Sigrid Daubrège
DESCRIPTION:CENTRE-VILLELundi 23 octobre 2023 de 17h à 18hHôtel de Ville\
 nhttps://www.ville-coudekerque-branche.fr/events/permanence-de-sigrid-daubr
 ege/
URL:https://www.ville-coudekerque-branche.fr/events/permanence-de-sigrid-daubrege/
END:VEVENT
END:VCALENDAR