BEGIN:VCALENDAR
VERSION:2.0
PRODID:-//eventon.com NONSGML v1.0//EN
CALSCALE:GREGORIAN
METHOD:PUBLISH
BEGIN:VEVENT
UID:69e6113b54121
DTSTAMP:20260420T114251Z
DTSTART:20231007
DTEND:20231008
LOCATION:Salle Delvallez Rue des Forts
SUMMARY:Exposition Flandrail
DESCRIPTION:et 8 octobre 2023 salle Delvallez &#8211; rue des Forts Samedi 
 : 14h à 19h\,  dimanche 10h à 18h Tarif : entrée 3.50euros\,  famille : 
 8euros\nhttps://www.ville-coudekerque-branche.fr/events/exposition-flandrai
 l/
URL:https://www.ville-coudekerque-branche.fr/events/exposition-flandrail/
END:VEVENT
END:VCALENDAR