BEGIN:VCALENDAR
VERSION:2.0
PRODID:-//eventon.com NONSGML v1.0//EN
CALSCALE:GREGORIAN
METHOD:PUBLISH
BEGIN:VEVENT
UID:69e5fc91b12a4
DTSTAMP:20260420T101441Z
DTSTART:20231110T171500Z
DTEND:20231110T181500Z
LOCATION:
SUMMARY:Défilez avec Saint Martin et son âne
DESCRIPTION:Célébrons ensemble la traditionnelle fête de la Saint Martin
  le vendredi 10 novembre. Des défilés sont organisés dans tous les quart
 iers de la ville. vendredi 10 novembre dans tous les quartiers &#8211; 18h1
 5 SAINTE GERMAINEDÉPART : espace du Maître de Poste à 18h15Avec la parti
 cipation de l’Harmonie Municipale de Coudekerque-BrancheARRIVÉE[..]\nhtt
 ps://www.ville-coudekerque-branche.fr/events/defilez-avec-saint-martin-et-s
 on-ane/
URL:https://www.ville-coudekerque-branche.fr/events/defilez-avec-saint-martin-et-son-ane/
END:VEVENT
END:VCALENDAR