BEGIN:VCALENDAR
VERSION:2.0
PRODID:-//eventon.com NONSGML v1.0//EN
CALSCALE:GREGORIAN
METHOD:PUBLISH
BEGIN:VEVENT
UID:69e5fc67db2ab
DTSTAMP:20260420T101359Z
DTSTART:20231215T173000Z
DTEND:20231215T180000Z
LOCATION:Hôtel de ville
SUMMARY:Descente du Père Noël
DESCRIPTION:Vendredi 15 décembre à 18h30 : descente du Père Noël au son
  de la musique de l&rsquo;Harmonie municipale !\nhttps://www.ville-coudeker
 que-branche.fr/events/descente-du-pere-noel-2/
URL:https://www.ville-coudekerque-branche.fr/events/descente-du-pere-noel-2/
END:VEVENT
END:VCALENDAR