BEGIN:VCALENDAR
VERSION:2.0
PRODID:-//eventon.com NONSGML v1.0//EN
CALSCALE:GREGORIAN
METHOD:PUBLISH
BEGIN:VEVENT
UID:69e5e783f14db
DTSTAMP:20260420T084451Z
DTSTART:20231221T090000Z
DTEND:20231221T092000Z
LOCATION:Bibliothèque Louis Aragon 3\,  rue Ghesquière
SUMMARY:Le moment des Loupiots (pour les tout-petits)
DESCRIPTION:Jeudi 21 décembre de 10h à 10h20Bibliothèque Aragon &#8211; 
 Rue Henri Ghesquière(Réservation gratuite au 03 28 24 36 51)\nhttps://www
 .ville-coudekerque-branche.fr/events/le-moment-des-loupiots-pour-les-tout-p
 etits-8/
URL:https://www.ville-coudekerque-branche.fr/events/le-moment-des-loupiots-pour-les-tout-petits-8/
END:VEVENT
END:VCALENDAR