BEGIN:VCALENDAR
VERSION:2.0
PRODID:-//eventon.com NONSGML v1.0//EN
CALSCALE:GREGORIAN
METHOD:PUBLISH
BEGIN:VEVENT
UID:69e6115540146
DTSTAMP:20260420T114317Z
DTSTART:20240113T094500Z
DTEND:20240113T103000Z
LOCATION:Bibliothèque Louis Aragon 3\,  rue Ghesquière
SUMMARY:Heure du conte (à partir de 3 ans)
DESCRIPTION:Samedi 13 janvier de 10h45 à 11h30Bibliothèque Aragon &#8211;
  Rue Henri Ghesquière\nhttps://www.ville-coudekerque-branche.fr/events/heu
 re-du-conte-a-partir-de-3-ans-21/
URL:https://www.ville-coudekerque-branche.fr/events/heure-du-conte-a-partir-de-3-ans-21/
END:VEVENT
END:VCALENDAR