BEGIN:VCALENDAR
VERSION:2.0
PRODID:-//eventon.com NONSGML v1.0//EN
CALSCALE:GREGORIAN
METHOD:PUBLISH
BEGIN:VEVENT
UID:69e5e81330dd9
DTSTAMP:20260420T084715Z
DTSTART:20240105T131500Z
DTEND:20240105T160000Z
LOCATION:Espace Jean Vilar
SUMMARY:Galette des rois organisée par l’Amicale des Sapeurs-pompiers
DESCRIPTION:Vendredi 5 janvier à 14h15Salle Bruegel\nhttps://www.ville-cou
 dekerque-branche.fr/events/galette-des-rois-organisee-par-lamicale-des-sape
 urs-pompiers/
URL:https://www.ville-coudekerque-branche.fr/events/galette-des-rois-organisee-par-lamicale-des-sapeurs-pompiers/
END:VEVENT
END:VCALENDAR