BEGIN:VCALENDAR
VERSION:2.0
PRODID:-//eventon.com NONSGML v1.0//EN
CALSCALE:GREGORIAN
METHOD:PUBLISH
BEGIN:VEVENT
UID:69e730f8b1529
DTSTAMP:20260421T081032Z
DTSTART:20240107T130000Z
DTEND:20240107T170000Z
LOCATION:Espace Jean Vilar
SUMMARY:Loto organisé par le Rotary Club
DESCRIPTION:Dimanche 7 janvier de 14h à 18h Espace Jean Vilar\nhttps://www
 .ville-coudekerque-branche.fr/events/loto-organise-par-le-rotary-club/
URL:https://www.ville-coudekerque-branche.fr/events/loto-organise-par-le-rotary-club/
END:VEVENT
END:VCALENDAR