BEGIN:VCALENDAR
VERSION:2.0
PRODID:-//eventon.com NONSGML v1.0//EN
CALSCALE:GREGORIAN
METHOD:PUBLISH
BEGIN:VEVENT
UID:69e612d1b44f8
DTSTAMP:20260420T114937Z
DTSTART:20240120T083000Z
DTEND:20240120T110000Z
LOCATION:
SUMMARY:Matinée portes ouvertes au collège Boris Vian
DESCRIPTION:Samedi 20 janvier de 9h30 à 12h Collège Boris Vian\nhttps://w
 ww.ville-coudekerque-branche.fr/events/matinee-portes-ouvertes-au-college-b
 oris-vian/
URL:https://www.ville-coudekerque-branche.fr/events/matinee-portes-ouvertes-au-college-boris-vian/
END:VEVENT
END:VCALENDAR