BEGIN:VCALENDAR
VERSION:2.0
PRODID:-//eventon.com NONSGML v1.0//EN
CALSCALE:GREGORIAN
METHOD:PUBLISH
BEGIN:VEVENT
UID:69e5e7f58a452
DTSTAMP:20260420T084645Z
DTSTART:20240128T150000Z
DTEND:20240128T170000Z
LOCATION:Espace Jean Vilar
SUMMARY:Gala Nostradamus 2024
DESCRIPTION:Dimanche 28 janvier – 16h Si vous voulez vous amuser à vous 
 torturer les neurones\,  assistez au Gala Nostradamus 2024\,  où seront pr
 ésents les meilleurs mentalistes européens : Klek Entos\,  Anca et Lucca\
 ,  Christophe Bischof\,  Kévin Micoud\,  Les Black Fingers\,  Olivier Pres
 tant\,  Timon Kraus\,  et bien d’autres. Manipulation et magie[..]\nhttps
 ://www.ville-coudekerque-branche.fr/events/gala-nostradamus-2024/
URL:https://www.ville-coudekerque-branche.fr/events/gala-nostradamus-2024/
END:VEVENT
END:VCALENDAR