BEGIN:VCALENDAR
VERSION:2.0
PRODID:-//eventon.com NONSGML v1.0//EN
CALSCALE:GREGORIAN
METHOD:PUBLISH
BEGIN:VEVENT
UID:69e5f998345ab
DTSTAMP:20260420T100200Z
DTSTART:20240225
DTEND:20240226
LOCATION:
SUMMARY:Le carnaval\,  c’est BeauCOUD’amour
DESCRIPTION:Le carnaval\,  c’est l’amour\,  la passion et le respect de
  nos traditions… Un événement qui rassemble toutes les générations au
  son des tambours-majors et des musiciens. Rendez-vous le 23 février 2024 
 pour l’ouverture des festivités. Vendredi 23 févrierBAL DES PÔTES IRON
 T22h – Salle Delvallez Samedi 24 févrierCARNAVAL ENFANTINDès 15h –[..
 ]\nhttps://www.ville-coudekerque-branche.fr/events/le-carnaval-cest-beaucou
 damour/
URL:https://www.ville-coudekerque-branche.fr/events/le-carnaval-cest-beaucoudamour/
END:VEVENT
END:VCALENDAR