BEGIN:VCALENDAR
VERSION:2.0
PRODID:-//eventon.com NONSGML v1.0//EN
CALSCALE:GREGORIAN
METHOD:PUBLISH
BEGIN:VEVENT
UID:69e5e8a453162
DTSTAMP:20260420T084940Z
DTSTART:20240319T170000Z
DTEND:20240319T180000Z
LOCATION:Mairie de Quartier Cézanne 26 rue Cézanne
SUMMARY:Permanence de Laurent Vanrechem
DESCRIPTION:GRAND STEENDAM Mardi 19 mars 2024 de 17h à 18hMairie de quarti
 er Cézanne\nhttps://www.ville-coudekerque-branche.fr/events/permanence-de-
 laurent-vanrechem-16/
URL:https://www.ville-coudekerque-branche.fr/events/permanence-de-laurent-vanrechem-16/
END:VEVENT
END:VCALENDAR