BEGIN:VCALENDAR
VERSION:2.0
PRODID:-//eventon.com NONSGML v1.0//EN
CALSCALE:GREGORIAN
METHOD:PUBLISH
BEGIN:VEVENT
UID:69e5fea2756d3
DTSTAMP:20260420T102330Z
DTSTART:20240331T110000Z
DTEND:20240331T130000Z
LOCATION:Square Charlie et ses amis rue Ghesquière
SUMMARY:La grande chasse aux oeufs de Pâques
DESCRIPTION:Dimanche 31 mars 2024 à partir de 11h Centre Aragon\nhttps://w
 ww.ville-coudekerque-branche.fr/events/la-grande-chasse-aux-oeufs-de-paques
 /
URL:https://www.ville-coudekerque-branche.fr/events/la-grande-chasse-aux-oeufs-de-paques/
END:VEVENT
END:VCALENDAR